BEGIN:VCALENDAR
VERSION:2.0
PRODID:-//Veronika Ponzer - ECPv5.16.4//NONSGML v1.0//EN
CALSCALE:GREGORIAN
METHOD:PUBLISH
X-WR-CALNAME:Veronika Ponzer
X-ORIGINAL-URL:https://harfinesse.de
X-WR-CALDESC:Events for Veronika Ponzer
REFRESH-INTERVAL;VALUE=DURATION:PT1H
X-Robots-Tag:noindex
X-PUBLISHED-TTL:PT1H
BEGIN:VTIMEZONE
TZID:Europe/Berlin
BEGIN:DAYLIGHT
TZOFFSETFROM:+0100
TZOFFSETTO:+0200
TZNAME:CEST
DTSTART:20220327T010000
END:DAYLIGHT
BEGIN:STANDARD
TZOFFSETFROM:+0200
TZOFFSETTO:+0100
TZNAME:CET
DTSTART:20221030T010000
END:STANDARD
BEGIN:DAYLIGHT
TZOFFSETFROM:+0100
TZOFFSETTO:+0200
TZNAME:CEST
DTSTART:20230326T010000
END:DAYLIGHT
BEGIN:STANDARD
TZOFFSETFROM:+0200
TZOFFSETTO:+0100
TZNAME:CET
DTSTART:20231029T010000
END:STANDARD
END:VTIMEZONE
BEGIN:VEVENT
DTSTART;TZID=Europe/Berlin:20231217T110000
DTEND;TZID=Europe/Berlin:20231217T110000
DTSTAMP:20260421T120124
CREATED:20231112T151345Z
LAST-MODIFIED:20231112T151345Z
UID:2132-1702810800-1702810800@harfinesse.de
SUMMARY:„Heilige Nacht“ von Ludwig Thoma
DESCRIPTION:Ein Klassiker bayerischer Literatur\nMit Michael Lerchenberg & Veronika Ponzer (Harfe)\n \nFür jeden\, der echtes bayerisches Brauchtum und die bayerische Sprache liebt\, gibt es kein Weihnachten\, bevor er die Heilige Nacht von Ludwig Thoma nicht mindestens einmal gehört hat. \nTelefonische Kartenreservierung\nMo – Fr: 11:00 bis 17:00 Uhr\nTelefon: +49-(0)89-29 28 10 \nFoto: © Veronika Ponzer
URL:https://harfinesse.de/event/heilige-nacht-von-ludwig-thoma/
LOCATION:Komödie im Bayerischen Hof\, Promenadeplatz 6\, München\, Bayern\, 80333\, Deutschland
ATTACH;FMTTYPE=image/jpeg:https://harfinesse.de/wp-content/uploads/Beitragsbild-16-9-scaled.jpg
END:VEVENT
BEGIN:VEVENT
DTSTART;TZID=Europe/Berlin:20231210T190000
DTEND;TZID=Europe/Berlin:20231210T190000
DTSTAMP:20260421T120124
CREATED:20231112T150250Z
LAST-MODIFIED:20231112T150250Z
UID:2125-1702234800-1702234800@harfinesse.de
SUMMARY:Kammerkonzert mit Klarinette & Harfe
DESCRIPTION:Kammerkonzert mit Klarinette & Harfe  \nOliver Klenk – Klarinette & Harfe – Veronika Ponzer \nGemeindezentrum der Freien evangelischen Gemeinde in Ottobrunn \nFoto: © Veronika Ponzer \n 
URL:https://harfinesse.de/event/kammerkonzert-mit-klarinette-harfe/
LOCATION:Gemeindezentrum der Freien evangelischen Gemeinde\, Bahnhofstraße 2\, Ottobrunn\, 85521\, Deutschland
ATTACH;FMTTYPE=image/jpeg:https://harfinesse.de/wp-content/uploads/Beitragsbild-16-9-scaled.jpg
END:VEVENT
BEGIN:VEVENT
DTSTART;TZID=Europe/Berlin:20231209T200000
DTEND;TZID=Europe/Berlin:20231209T200000
DTSTAMP:20260421T120124
CREATED:20231112T145709Z
LAST-MODIFIED:20231112T150547Z
UID:2121-1702152000-1702152000@harfinesse.de
SUMMARY:"Weihnachtswünsche aller Art"
DESCRIPTION:„Weihnachtswünsche aller Art“  \nMartin Gruber (Sprecher) & Veronika Ponzer (Harfe) \nHospitalkirche in Wetzlar \nFoto: © Veronika Ponzer \n 
URL:https://harfinesse.de/event/weihnachtswuensche-aller-art/
LOCATION:Hospitalkirche in Wetzlar\, Langgasse 3\, Wetzlar\, 35576\, Deutschland
ATTACH;FMTTYPE=image/jpeg:https://harfinesse.de/wp-content/uploads/Beitragsbild-16-9-scaled.jpg
END:VEVENT
BEGIN:VEVENT
DTSTART;TZID=Europe/Berlin:20231203T180000
DTEND;TZID=Europe/Berlin:20231203T180000
DTSTAMP:20260421T120124
CREATED:20231112T144254Z
LAST-MODIFIED:20231117T200725Z
UID:2113-1701626400-1701626400@harfinesse.de
SUMMARY:„Klingender Adventskalender“
DESCRIPTION:„Klingender Adventskalender“ \nBirgitt Bernhard\, Text\nVeronika Ponzer\, Harfe\nThomas Rothfuß\, Orgel \nPfarrkirche München St. Stephan (Sendling) \n 
URL:https://harfinesse.de/event/klingender-adventskalender/
LOCATION:Pfarrkirche München St. Stephan (Sendling)\, Zillertalstraße 47\, München\, Bayern\, 81373\, Deutschland
ATTACH;FMTTYPE=image/jpeg:https://harfinesse.de/wp-content/uploads/Flyer-Klingender-Adventskalender-am-03.12.2023-scaled.jpg
END:VEVENT
BEGIN:VEVENT
DTSTART;TZID=Europe/Berlin:20231115T193000
DTEND;TZID=Europe/Berlin:20231115T193000
DTSTAMP:20260421T120124
CREATED:20231112T142317Z
LAST-MODIFIED:20231112T144606Z
UID:2106-1700076600-1700076600@harfinesse.de
SUMMARY:Ein literarisch-musikalischer Abend mit Heiko Ruprecht & Veronika Ponzer
DESCRIPTION:„Vergleich ich dich mit einem Sommertag?“ –\nDie Sonette von William Shakespeare\nMit Harfenmusik aus dem 19. und 20. Jahrhundert\nHeiko Ruprecht – Wort & Musik – Veronika Ponzer\, Harfe \nStadttheater Amberg \nFoto: © Veronika Ponzer \n 
URL:https://harfinesse.de/event/ein-literarisch-musikalischer-abend-mit-heiko-ruprecht-veronika-ponzer-2/
LOCATION:Stadttheater Amberg\, Schrannenplatz 8\, Amberg\, 92224\, Deutschland
ATTACH;FMTTYPE=image/jpeg:https://harfinesse.de/wp-content/uploads/Beitragsbild-16-9-scaled.jpg
END:VEVENT
BEGIN:VEVENT
DTSTART;TZID=Europe/Berlin:20230924T193000
DTEND;TZID=Europe/Berlin:20230924T193000
DTSTAMP:20260421T120124
CREATED:20230302T193607Z
LAST-MODIFIED:20230302T193607Z
UID:2098-1695583800-1695583800@harfinesse.de
SUMMARY:Duo Oboe & Harfe
DESCRIPTION:Oboe – Dirk-Michael Kirsch\nHarfe – Veronika Ponzer \nKammerkonzert auf Schloss Rosenau\, Rödental \nFoto: © Veronika Ponzer
URL:https://harfinesse.de/event/duo-oboe-harfe/
LOCATION:Schloss Rosenau\, Rosenau 1\, Rödental\, 96472
ATTACH;FMTTYPE=image/jpeg:https://harfinesse.de/wp-content/uploads/Beitragsbild-16-9-scaled.jpg
END:VEVENT
BEGIN:VEVENT
DTSTART;TZID=Europe/Berlin:20230723T110000
DTEND;TZID=Europe/Berlin:20230723T110000
DTSTAMP:20260421T120124
CREATED:20230302T192822Z
LAST-MODIFIED:20230302T192822Z
UID:2096-1690110000-1690110000@harfinesse.de
SUMMARY:ENSEMBLE NEUE WELT
DESCRIPTION:Flöte\, Violoncello\, Harfe\n„Kammerkonzert“ \nNeues Schloss Meersburg in Meersburg \nFlöte – Christoph Bachhuber\nCello – Dietrich von Kaltenborn\nHarfe – Veronika Ponzer \nFoto: © Veronika Ponzer
URL:https://harfinesse.de/event/ensemble-neue-welt-2/
LOCATION:Bayern
ATTACH;FMTTYPE=image/jpeg:https://harfinesse.de/wp-content/uploads/Beitragsbild-16-9-scaled.jpg
END:VEVENT
BEGIN:VEVENT
DTSTART;TZID=Europe/Berlin:20230722T170000
DTEND;TZID=Europe/Berlin:20230722T170000
DTSTAMP:20260421T120124
CREATED:20230302T191815Z
LAST-MODIFIED:20230302T192155Z
UID:2090-1690045200-1690045200@harfinesse.de
SUMMARY:ENSEMBLE NEUE WELT
DESCRIPTION:Flöte\, Violoncello\, Harfe\n„Kammerkonzert“ \nFlöte – Christoph Bachhuber\nCello – Dietrich von Kaltenborn\nHarfe – Veronika Ponzer \nKartenvorbestellung unter post@elawallner.de\nEla Wallner Tel. 0160 938 44 675 \nFoto: © Veronika Ponzer
URL:https://harfinesse.de/event/ensemble-neue-welt/
LOCATION:Aidmanshof Böbing\, Arsbaldweg 10\, Böbing\, 82389\, Deutschland
ATTACH;FMTTYPE=image/jpeg:https://harfinesse.de/wp-content/uploads/Beitragsbild-16-9-scaled.jpg
END:VEVENT
BEGIN:VEVENT
DTSTART;TZID=Europe/Berlin:20230521T190000
DTEND;TZID=Europe/Berlin:20230521T190000
DTSTAMP:20260421T120124
CREATED:20230302T190415Z
LAST-MODIFIED:20230302T194102Z
UID:2084-1684695600-1684695600@harfinesse.de
SUMMARY:ensemble triolog: Flöte – Viola – Harfe
DESCRIPTION:„Perlen der Kammermusik“\nTatjana Ruhland\, Flöte\nVeronika Ponzer\, Harfe\nGunter Teuffel\, Viola \nSt. Laurentius\, Bad Rotenfels \nFoto: © Veronika Ponzer
URL:https://harfinesse.de/event/ensemble-triolog-floete-viola-harfe-2/
LOCATION:St. Laurentius\, Bad Rotenfels
ATTACH;FMTTYPE=image/jpeg:https://harfinesse.de/wp-content/uploads/Beitragsbild-16-9-scaled.jpg
END:VEVENT
BEGIN:VEVENT
DTSTART;TZID=Europe/Berlin:20230428T190000
DTEND;TZID=Europe/Berlin:20230428T190000
DTSTAMP:20260421T120124
CREATED:20230302T185251Z
LAST-MODIFIED:20230302T193929Z
UID:2077-1682708400-1682708400@harfinesse.de
SUMMARY:Ein literarisch-musikalischer Abend mit Heiko Ruprecht & Veronika Ponzer
DESCRIPTION:„Vergleich ich dich mit einem Sommertag?“ –\nDie Sonette von William Shakespeare mit Harfenmusik \nRathaus Illenau in Achern \nFoto: © Veronika Ponzer \n 
URL:https://harfinesse.de/event/ein-literarisch-musikalischer-abend-mit-heiko-ruprecht-veronika-ponzer/
LOCATION:Pfarrkirche München – St. Stephan (Sendling)\, Zillertalstr. 51\, München / Sendling\, 81373\, Deutschland
ATTACH;FMTTYPE=image/jpeg:https://harfinesse.de/wp-content/uploads/Beitragsbild-16-9-scaled.jpg
END:VEVENT
BEGIN:VEVENT
DTSTART;TZID=Europe/Berlin:20230419T193000
DTEND;TZID=Europe/Berlin:20230419T193000
DTSTAMP:20260421T120124
CREATED:20230302T184026Z
LAST-MODIFIED:20230302T193816Z
UID:2073-1681932600-1681932600@harfinesse.de
SUMMARY:Duo Flöte & Harfe
DESCRIPTION:Flöte – Christoph Bachhuber\nHarfe – Veronika Ponzer \n„Kammerkonzert“ \nFoto: © Veronika Ponzer
URL:https://harfinesse.de/event/duo-floete-harfe/
LOCATION:Aula der Berufsschule in Sulzbach-Rosenberg
ATTACH;FMTTYPE=image/jpeg:https://harfinesse.de/wp-content/uploads/Beitragsbild-16-9-scaled.jpg
END:VEVENT
BEGIN:VEVENT
DTSTART;TZID=Europe/Berlin:20221218T110000
DTEND;TZID=Europe/Berlin:20221218T110000
DTSTAMP:20260421T120124
CREATED:20220228T194014Z
LAST-MODIFIED:20220706T121121Z
UID:1764-1671361200-1671361200@harfinesse.de
SUMMARY:„Heilige Nacht“ von Ludwig Thoma
DESCRIPTION:Ein Klassiker bayerischer Literatur\nMit Michael Lerchenberg & Veronika Ponzer \nFür jeden\, der echtes bayerisches Brauchtum und die bayerische Sprache liebt\, gibt es kein Weihnachten\, bevor er die Heilige Nacht von Ludwig Thoma nicht mindestens einmal gehört hat. \nFoto: © Veronika Ponzer
URL:https://harfinesse.de/event/heilige-nacht-von-ludwig-thoma-komoedie-im-bayerischen-hof-2022/
LOCATION:Komödie im Bayerischen Hof\, Promenadeplatz 6\, München\, Bayern\, 80333\, Deutschland
ATTACH;FMTTYPE=image/jpeg:https://harfinesse.de/wp-content/uploads/Beitragsbild-16-9-scaled.jpg
END:VEVENT
BEGIN:VEVENT
DTSTART;TZID=Europe/Berlin:20221211T100000
DTEND;TZID=Europe/Berlin:20221211T100000
DTSTAMP:20260421T120124
CREATED:20220706T125207Z
LAST-MODIFIED:20220706T125247Z
UID:2042-1670752800-1670752800@harfinesse.de
SUMMARY:Gottesdienst in der Himmelfahrtskirche
DESCRIPTION:Gottesdienst mit Fernsehübertragung\nIn der Himmelfahrtskirche München-Sendling. \nVeronika Ponzer Harfe
URL:https://harfinesse.de/event/gottesdienst-himmelfahrtskirche-muenchen-sendling/
LOCATION:Himmelfahrtskirche München-Sendling\, Kidlerstraße 15\, München\, Bayern\, 81371\, Deutschland
ATTACH;FMTTYPE=image/jpeg:https://harfinesse.de/wp-content/uploads/Beitragsbild-16-9-scaled.jpg
END:VEVENT
BEGIN:VEVENT
DTSTART;TZID=Europe/Berlin:20221209T193000
DTEND;TZID=Europe/Berlin:20221209T193000
DTSTAMP:20260421T120124
CREATED:20220706T123703Z
LAST-MODIFIED:20220706T124011Z
UID:2038-1670614200-1670614200@harfinesse.de
SUMMARY:„Heilige Nacht“ von Ludwig Thoma
DESCRIPTION:Ein weihnachtlicher Klassiker bayerischer Literatur\nMusikalische Lesung mit Michael Lerchenberg & Veronika Ponzer \nFür jeden\, der echtes bayerisches Brauchtum und die bayerische Sprache liebt\, gibt es kein Weihnachten\, bevor er die Heilige Nacht von Ludwig Thoma nicht mindestens einmal gehört hat. \nFoto: © Veronika Ponzer
URL:https://harfinesse.de/event/heilige-nacht-von-ludwig-thoma-stadthalle-germering/
LOCATION:Stadthalle Germering\, Amadeussaal\, Landsberger Str. 39\, Germering\, Bayern\, 82110
ATTACH;FMTTYPE=image/jpeg:https://harfinesse.de/wp-content/uploads/Beitragsbild-16-9-scaled.jpg
END:VEVENT
BEGIN:VEVENT
DTSTART;TZID=Europe/Berlin:20221204T180000
DTEND;TZID=Europe/Berlin:20221204T180000
DTSTAMP:20260421T120124
CREATED:20221126T165152Z
LAST-MODIFIED:20221128T123758Z
UID:2065-1670176800-1670176800@harfinesse.de
SUMMARY:Adventskonzert in der Andreaskirche
DESCRIPTION:Leitung: Kantor Michael Pfeiffer\nChor und Orchester\nHarfe: Veronika Ponzer\n\nProgramm:\nG. F. Händel Konzert für Harfe und Orchester\nCésar Franck Psalm 150\nCharles Gounod Cäcilienmesse
URL:https://harfinesse.de/event/adventskonzert-in-der-andreaskirche/
LOCATION:Andreaskirche München-Fürstenried\, Walliser Str. 11\, München\, Bayern\, 81475
ATTACH;FMTTYPE=image/jpeg:https://harfinesse.de/wp-content/uploads/Beitragsbild-16-9-scaled.jpg
END:VEVENT
BEGIN:VEVENT
DTSTART;TZID=Europe/Berlin:20221127T170000
DTEND;TZID=Europe/Berlin:20221127T170000
DTSTAMP:20260421T120124
CREATED:20220228T193029Z
LAST-MODIFIED:20220306T185847Z
UID:1759-1669568400-1669568400@harfinesse.de
SUMMARY:Himmlische Harfenmusik zur Vorweihnachtszeit
DESCRIPTION:HarfenDuo\nEin weihnachtliches Konzert mit Johanna & Veronika Ponzer \nFoto: © Inge Schröder
URL:https://harfinesse.de/event/himmlische-harfenmusik-zur-vorweihnachtszeit-st-martin-niedermurach/
LOCATION:Pfarrkriche St. Martin\, Oberviechtacherstraße 5\, Niedermurach\, Bayern\, 92545\, Deutschland
ATTACH;FMTTYPE=image/jpeg:https://harfinesse.de/wp-content/uploads/HarfenDuo-Johanna-Veronika-Ponzer-©-Inge-Schroeder-scaled.jpg
END:VEVENT
BEGIN:VEVENT
DTSTART;TZID=Europe/Berlin:20221118T190000
DTEND;TZID=Europe/Berlin:20221118T190000
DTSTAMP:20260421T120124
CREATED:20221008T094935Z
LAST-MODIFIED:20221008T095258Z
UID:2049-1668798000-1668798000@harfinesse.de
SUMMARY:Himmlische Harfenmusik
DESCRIPTION:Das HarfenDuo Johanna & Veronika Ponzer hat für Sie ein Päckchen mit himmlischer Harfenmusik gepackt. \nStade Weisen\, Franz Schuberts „Ave Maria“\, Marcel Tourniers „Quatre Préludes“\, Domenico Scarlattis „Sonate K213“\, Cesar Francks „Prélude\, Fugue\, Variation“ und mehr. \nEs geht auf die Vorweihnachtszeit zu\, diese ist für die Künstlerinnen die Zeit der Vorfreude. „Ein leises inneres Lächeln wächst in uns\, es deutet auf ein Jubeln hin. Wir freuen uns darauf\, mit Ihnen gemeinsam das klingende Päckchen zu öffnen“. \nKartenreservierung unter 0163 – 7574653\, Maria Anderson\nFoto: © Inge Schröder
URL:https://harfinesse.de/event/himmlische-harfenmusik/
LOCATION:Movimento München\, Neuhauser Str. 15\, München\, 80331
ATTACH;FMTTYPE=image/jpeg:https://harfinesse.de/wp-content/uploads/HarfenDuo-Johanna-Veronika-Ponzer-8992b-scaled.jpg
END:VEVENT
BEGIN:VEVENT
DTSTART;TZID=Europe/Berlin:20221117T190000
DTEND;TZID=Europe/Berlin:20221117T190000
DTSTAMP:20260421T120124
CREATED:20221114T111057Z
LAST-MODIFIED:20221114T111057Z
UID:2056-1668711600-1668711600@harfinesse.de
SUMMARY:Himmlische Harfenmusik
DESCRIPTION:Das HarfenDuo Johanna & Veronika Ponzer hat für Sie ein Päckchen mit himmlischer Harfenmusik gepackt. \nStade Weisen\, Franz Schuberts „Ave Maria“\, Marcel Tourniers „Quatre Préludes“\, Domenico Scarlattis „Sonate K213“\, Cesar Francks „Prélude\, Fugue\, Variation“ und mehr. \nEs geht auf die Vorweihnachtszeit zu\, diese ist für die Künstlerinnen die Zeit der Vorfreude. „Ein leises inneres Lächeln wächst in uns\, es deutet auf ein Jubeln hin. Wir freuen uns darauf\, mit Ihnen gemeinsam das klingende Päckchen zu öffnen“. \nKartenreservierung unter 0163 – 7574653\, Maria Anderson\nFoto: © Inge Schröder
URL:https://harfinesse.de/event/himmlische-harfenmusik-2/
LOCATION:Movimento München\, Neuhauser Str. 15\, München\, 80331
ATTACH;FMTTYPE=image/jpeg:https://harfinesse.de/wp-content/uploads/HarfenDuo-Johanna-Veronika-Ponzer-8992b-scaled.jpg
END:VEVENT
BEGIN:VEVENT
DTSTART;TZID=Europe/Berlin:20221109T193000
DTEND;TZID=Europe/Berlin:20221109T193000
DTSTAMP:20260421T120124
CREATED:20220228T192422Z
LAST-MODIFIED:20221008T095616Z
UID:1755-1668022200-1668022200@harfinesse.de
SUMMARY:„Kammerkonzert mit Flöte & Harfe“
DESCRIPTION:Duo Flöte & Harfe\nChristoph Bachhuber & Veronika Ponzer \nFoto: © Veronika Ponzer
URL:https://harfinesse.de/event/kammerkonzert-mit-floete-harfe-berufsschule-sulzbach-rosenberg/
LOCATION:Berufsschule Sulzbach-Rosenberg\, Neumarkter Straße 10\, Sulzbach-Rosenberg\, Bayern\, 92237\, Deutschland
ATTACH;FMTTYPE=image/jpeg:https://harfinesse.de/wp-content/uploads/Beitragsbild-16-9-scaled.jpg
END:VEVENT
BEGIN:VEVENT
DTSTART;TZID=Europe/Berlin:20221103T200000
DTEND;TZID=Europe/Berlin:20221103T200000
DTSTAMP:20260421T120124
CREATED:20220706T122319Z
LAST-MODIFIED:20220706T122640Z
UID:2031-1667505600-1667505600@harfinesse.de
SUMMARY:ensemble triolog: Flöte – Viola – Harfe
DESCRIPTION:Werke von Wolfgang Amadeus Mozart\, Camille Saint-Saëns u. a.  \n19.15 Uhr Einführung: Dr. Christina Dollinger \nTatjana Ruhland\, Flöte\nVeronika Ponzer\, Harfe\nGunter Teuffel\, Viola \nKarten 34 € / 29 €\, Schüler/Studenten 5 € ab 15. August 2022 \n  \nFoto: © Veronika Ponzer
URL:https://harfinesse.de/event/ensemble-triolog-floete-viola-harfe-kronensaal-bietigheim-bissingen/
LOCATION:Kronensaal in Bietigheim-Bissingen\, Mühlwiesenstraße 6\, Bietigheim-Bissingen\, Baden-Württemberg\, 74321
ATTACH;FMTTYPE=image/jpeg:https://harfinesse.de/wp-content/uploads/Beitragsbild-16-9-scaled.jpg
END:VEVENT
BEGIN:VEVENT
DTSTART;TZID=Europe/Berlin:20221022T200000
DTEND;TZID=Europe/Berlin:20221022T200000
DTSTAMP:20260421T120124
CREATED:20220706T120926Z
LAST-MODIFIED:20220706T121027Z
UID:2028-1666468800-1666468800@harfinesse.de
SUMMARY:„Die Geister\, die ich rief …“ – Balladenabend
DESCRIPTION:Wort & Musik\nEin literarisch-musikalischer Balladenabend mit Heiko Ruprecht & Veronika Ponzer. \nIn der Aula der Carl-Kraemer-Realschule in Hilchenbach \nFotos: © Christian Hartmann | © Gabriela Neeb
URL:https://harfinesse.de/event/die-geister-die-ich-rief-balladenabend-carl-kraemer-realschule/
LOCATION:Carl-Kraemer-Realschule\, Jung-Stilling-Allee 8\, Hilchenbach\, Nordrhein-Westfalen\, 57271\, Deutschland
ATTACH;FMTTYPE=image/jpeg:https://harfinesse.de/wp-content/uploads/Heiko-Ruprecht-und-Veronika-Ponzer-2-Balladenabend.jpg
END:VEVENT
BEGIN:VEVENT
DTSTART;TZID=Europe/Berlin:20221002T180000
DTEND;TZID=Europe/Berlin:20221002T180000
DTSTAMP:20260421T120124
CREATED:20220228T191729Z
LAST-MODIFIED:20220306T190116Z
UID:1751-1664733600-1664733600@harfinesse.de
SUMMARY:„Die Geister\, die ich rief …“ – Balladenabend
DESCRIPTION:Wort & Musik\nEin literarisch-musikalischer Balladenabend mit Heiko Ruprecht & Veronika Ponzer. \nFotos: © Christian Hartmann | © Gabriela Neeb
URL:https://harfinesse.de/event/die-geister-die-ich-rief-balladenabend-zeughaus-donauwoerth/
LOCATION:Zeughaus Donauwörth\, Rathausgasse 1\, Donauwörth\, Bayern\, 86609\, Deutschland
ATTACH;FMTTYPE=image/jpeg:https://harfinesse.de/wp-content/uploads/Heiko-Ruprecht-und-Veronika-Ponzer-2-Balladenabend.jpg
END:VEVENT
BEGIN:VEVENT
DTSTART;TZID=Europe/Berlin:20220918T110000
DTEND;TZID=Europe/Berlin:20220918T110000
DTSTAMP:20260421T120124
CREATED:20220228T185110Z
LAST-MODIFIED:20220306T190243Z
UID:1744-1663498800-1663498800@harfinesse.de
SUMMARY:„Vergleich ich dich mit einem Sommertag?“
DESCRIPTION:Wort & Musik\nBeim „Hohenloher Kultursommer 2022“ \nSonette von William Shakespeare mit Harfenmusik \nEin literarisch-musikalisches Konzert mit Heiko Ruprecht & Veronika Ponzer \nFotos: © Christian Hartmann | © privat
URL:https://harfinesse.de/event/vergleich-ich-dich-mit-einem-sommertag-hohenloher-kultursommer-2022/
LOCATION:Neues Globe\, Unterwöhrd 1\, Schwäbisch Hall\, Baden-Württemberg\, 74523\, Deutschland
ATTACH;FMTTYPE=image/jpeg:https://harfinesse.de/wp-content/uploads/Heiko-Ruprecht-und-Veronika-Ponzer.jpg
END:VEVENT
BEGIN:VEVENT
DTSTART;TZID=Europe/Berlin:20220902T143000
DTEND;TZID=Europe/Berlin:20220902T143000
DTSTAMP:20260421T120124
CREATED:20220706T115652Z
LAST-MODIFIED:20220707T151333Z
UID:2020-1662129000-1662129000@harfinesse.de
SUMMARY:"Konzert Lichtblick"
DESCRIPTION:Sopran – Christa Schneider & Veronika Ponzer – Harfe \nEine geschlossene Veranstaltung in der Jakobskapelle \nFoto: © Veronika Ponzer
URL:https://harfinesse.de/event/konzert-lichtblick-jakobskapelle/
LOCATION:Jakobskapelle\, Deutschland
ATTACH;FMTTYPE=image/jpeg:https://harfinesse.de/wp-content/uploads/Harfe-mit-Kamin-IMG_4045-scaled.jpg
END:VEVENT
BEGIN:VEVENT
DTSTART;TZID=Europe/Berlin:20220730T200000
DTEND;TZID=Europe/Berlin:20220730T200000
DTSTAMP:20260421T120124
CREATED:20220228T184324Z
LAST-MODIFIED:20220306T190336Z
UID:1737-1659211200-1659211200@harfinesse.de
SUMMARY:„Die Geister\, die ich rief …“ - Balladenabend
DESCRIPTION:Wort & Musik\nBeim „Oberstdorfer Musiksommer 2022“ \nEin literarisch-musikalischer Balladenabend mit Heiko Ruprecht & Veronika Ponzer. \nMit Musik und Balladen von Schiller und Goethe „Der Zauberlehrling“\, „Erlkönig“\, „Der Taucher“\, „Der Handschuh“ u.a. \nIm Saal Breitachklammm \nFotos: © Christian Hartmann | © Gabriela Neeb
URL:https://harfinesse.de/event/die-geister-die-ich-rief-balladenabend/
LOCATION:Oberstdorf Haus\, Oberstdorf Haus\, Oberstdorf\, Bayern\, 87561\, Deutschland
ATTACH;FMTTYPE=image/jpeg:https://harfinesse.de/wp-content/uploads/Heiko-Ruprecht-und-Veronika-Ponzer-2-Balladenabend.jpg
END:VEVENT
BEGIN:VEVENT
DTSTART;TZID=Europe/Berlin:20220515T180000
DTEND;TZID=Europe/Berlin:20220515T180000
DTSTAMP:20260421T120124
CREATED:20220228T182721Z
LAST-MODIFIED:20220306T190520Z
UID:1733-1652637600-1652637600@harfinesse.de
SUMMARY:Romantische Nachtmusik
DESCRIPTION:Duo Oboe & Harfe\nDirk-Michael Kirsch & Veronika Ponzer \nFotos: © privat | © Gabriela Neeb
URL:https://harfinesse.de/event/romantische-nachtmusik/
LOCATION:Pfarrkirche München St. Stephan (Sendling)\, Zillertalstraße 47\, München\, Bayern\, 81373\, Deutschland
ATTACH;FMTTYPE=image/jpeg:https://harfinesse.de/wp-content/uploads/Heiko-Ruprecht-und-Veronika-Ponzer-Duo-Oboe.jpg
END:VEVENT
BEGIN:VEVENT
DTSTART;TZID=Europe/Berlin:20220427T150000
DTEND;TZID=Europe/Berlin:20220427T150000
DTSTAMP:20260421T120124
CREATED:20220228T182125Z
LAST-MODIFIED:20220306T190643Z
UID:1724-1651071600-1651071600@harfinesse.de
SUMMARY:Musik für die Seele
DESCRIPTION:Harfe Solo – Veronika Ponzer\nKonzert in der Evangelischen Kirche in der München Klinik Schwabing. \nFoto: © Veronika Ponzer
URL:https://harfinesse.de/event/musik-fuer-die-seele/
LOCATION:Evangelische Kirche in der München Klinik Schwabing\, Kölner Platz 1\, München\, Bayern\, 80804\, Deutschland
ATTACH;FMTTYPE=image/jpeg:https://harfinesse.de/wp-content/uploads/Beitragsbild-16-9-scaled.jpg
END:VEVENT
BEGIN:VEVENT
DTSTART;TZID=Europe/Berlin:20220320T190000
DTEND;TZID=Europe/Berlin:20220320T190000
DTSTAMP:20260421T120124
CREATED:20220228T120326Z
LAST-MODIFIED:20220306T190607Z
UID:1663-1647802800-1647802800@harfinesse.de
SUMMARY:ensemble triolog: Flöte – Viola – Harfe
DESCRIPTION:Werke von Wolfgang Amadeus Mozart\, Camille Saint-Saëns u. a.  \nZum Abschluss der Konzertreihe „Fellbacher Rathauskonzerte“ ist das mehrfach preisgekrönte ensemble triolog zu Gast. \nDie Mitglieder des 1995 gegründeten Trios entfalten neben ihrer kammermusikalischen Arbeit eine weit gespannte solistische Tätigkeit und nehmen Spitzenpositionen in renommierten Orchestern ein. \nDie OPUS-KLASSIK-Preisträgerin Tatjana Ruhland ist Soloflötistin des SWR Symphonieorchesters\, Gunter Teuffel ebendort Solobratschist. Mit Veronika Ponzer werden die beiden um eine erfahrene Kammermusikerin an der Harfe ergänzt. \nAuf dem Programm stehen Werke von Jean-Marie Leclair\, Wolfgang Amadeus Mozart\, Arnold Bax\, Camille Saint-Saëns und Claude Debussy. \nIm großen Saal des Rathauses Fellbach. \nFoto: © Veronika Ponzer
URL:https://harfinesse.de/event/ensemble-triolog-floete-viola-harfe/
LOCATION:Rathaus Fellbach\, Marktplatz 1\, Fellbach\, Baden-Württemberg\, 70734\, Deutschland
ATTACH;FMTTYPE=image/jpeg:https://harfinesse.de/wp-content/uploads/Beitragsbild-16-9-scaled.jpg
ORGANIZER;CN="Stadt%20Fellbach%20%E2%80%93%20Kulturamt":MAILTO:kulturamt@fellbach.de
END:VEVENT
END:VCALENDAR